BEGIN:VCALENDAR
VERSION:2.0
PRODID:-//wp-events-plugin.com//7.2.3.1//EN
TZID:Europe/Paris
X-WR-TIMEZONE:Europe/Paris
BEGIN:VEVENT
UID:9@intratone.fr
DTSTART;TZID=Europe/Paris:20240423T090000
DTEND;TZID=Europe/Paris:20240423T170000
DTSTAMP:20240209T110353Z
URL:https://www.intratone.fr/reserver-une-formation/formation-gratuite-par
 is-3/
SUMMARY:Formation Gratuite Paris
DESCRIPTION:Durée de la formation : 7h sur une journée \n\nPossibilité 
 de ne participer qu'à un seul module mais devra être spécifié lors de 
 la réservation\n\nModules :\n\n&gt\; Présentation de la gamme et spécif
 icités techniques (9h00 - 12h00)\n\n&gt\; Fonctionnalités de base et ava
 ncées du site de gestion (13h30 - 16h30)
CATEGORIES:FORMATION GRATUITE PARIS
LOCATION:Paris\, 24 avenue Kléber\, Paris\, 75116\, France
X-APPLE-STRUCTURED-LOCATION;VALUE=URI;X-ADDRESS=24 avenue Kléber\, Paris\,
  75116\, France;X-APPLE-RADIUS=100;X-TITLE=Paris:geo:0,0
END:VEVENT
BEGIN:VTIMEZONE
TZID:Europe/Paris
X-LIC-LOCATION:Europe/Paris
BEGIN:DAYLIGHT
DTSTART:20240331T030000
TZOFFSETFROM:+0100
TZOFFSETTO:+0200
TZNAME:CEST
END:DAYLIGHT
END:VTIMEZONE
END:VCALENDAR